BEGIN:VCALENDAR
VERSION:2.0
PRODID:SchoolNow
CALSCALE:GREGORIAN
BEGIN:VEVENT
UID:8ecf3eba-b936-11ee-af4b-0a58a9feac02
DTSTAMP:20240122T145727Z
SUMMARY:Scholastic Book Fair
URL;VALUE=URI:https://www.albanyschools.org/schools/delaware/calendar/51933
 32/scholastic-book-fair
DTSTART;VALUE=DATE:20240304
DTEND;VALUE=DATE:20240309
END:VEVENT
END:VCALENDAR
