BEGIN:VCALENDAR
VERSION:2.0
PRODID:SchoolNow
CALSCALE:GREGORIAN
BEGIN:VEVENT
UID:ad77afd2-b936-11ee-9941-0a58a9feac02
DTSTAMP:20240304T204728Z
SUMMARY:Family Literacy Night
URL;VALUE=URI:https://www.albanyschools.org/schools/delaware/calendar/51933
 33/family-literacy-night
DTSTART:20240307T223000Z
DTEND:20240308T000000Z
END:VEVENT
END:VCALENDAR
