BEGIN:VCALENDAR
VERSION:2.0
PRODID:SchoolNow
CALSCALE:GREGORIAN
BEGIN:VEVENT
UID:7b8aaec4-bf8b-11ee-97a8-0e04a9b97fa9
DTSTAMP:20240130T162028Z
SUMMARY:Order Your School Spirit Wear
URL;VALUE=URI:https://www.albanyschools.org/schools/delaware/calendar/52306
 31/order-your-school-spirit-wear
DTSTART:20240201T161900Z
DTEND:20240215T171900Z
END:VEVENT
END:VCALENDAR
