BEGIN:VCALENDAR
VERSION:2.0
PRODID:SchoolNow
CALSCALE:GREGORIAN
BEGIN:VEVENT
UID:a8a94744-bf8b-11ee-9696-0a58a9feac02
DTSTAMP:20240130T162144Z
SUMMARY:School Spirit orders due
URL;VALUE=URI:https://www.albanyschools.org/schools/delaware/calendar/52306
 32/school-spirit-orders-due
DTSTART;VALUE=DATE:20240215
DTEND;VALUE=DATE:20240216
END:VEVENT
END:VCALENDAR
