BEGIN:VCALENDAR
VERSION:2.0
PRODID:SchoolNow
CALSCALE:GREGORIAN
BEGIN:VEVENT
UID:5873cc0a-e52d-11ee-91e1-0a58a9feac02
DTSTAMP:20240711T163632Z
SUMMARY:POSTPONED | Summer Celebration and Safety Day
LOCATION:Arbor Hill Elementary School\, 1 Arbor Drive
URL;VALUE=URI:https://www.albanyschools.org/schools/delaware/calendar/55734
 61/summer-celebration-and-safety-day
DTSTART:20240713T160000Z
DTEND:20240713T200000Z
END:VEVENT
END:VCALENDAR
