BEGIN:VCALENDAR
VERSION:2.0
PRODID:SchoolNow
CALSCALE:GREGORIAN
BEGIN:VEVENT
UID:c7c5e8d6-f80b-11ee-b0c7-0affc4084d4d
DTSTAMP:20240411T175007Z
SUMMARY:Spring concert
URL;VALUE=URI:https://www.albanyschools.org/schools/delaware/calendar/57591
 63/spring-concert
DTSTART:20240613T213000Z
DTEND:20240613T223000Z
END:VEVENT
END:VCALENDAR
