BEGIN:VCALENDAR
VERSION:2.0
PRODID:SchoolNow
CALSCALE:GREGORIAN
BEGIN:VEVENT
UID:7601d3e0-22a7-11ef-8a4a-0e5b1cee5b47
DTSTAMP:20240604T192010Z
SUMMARY:PTA Bingo Night
URL;VALUE=URI:https://www.albanyschools.org/schools/delaware/calendar/60760
 89/pta-bingo-night
DTSTART:20240605T213000Z
DTEND:20240605T223000Z
END:VEVENT
END:VCALENDAR
