BEGIN:VCALENDAR
VERSION:2.0
PRODID:SchoolNow
CALSCALE:GREGORIAN
BEGIN:VEVENT
UID:9318885c-22a7-11ef-96bb-024cb4f111ff
DTSTAMP:20240604T192059Z
SUMMARY:Pre-K Moving-Up Ceremony
URL;VALUE=URI:https://www.albanyschools.org/schools/delaware/calendar/60760
 90/pre-k-moving-up-ceremony
DTSTART:20240621T153000Z
DTEND:20240621T163000Z
END:VEVENT
END:VCALENDAR
