BEGIN:VCALENDAR
VERSION:2.0
PRODID:SchoolNow
CALSCALE:GREGORIAN
BEGIN:VEVENT
UID:b4e51874-22a7-11ef-87f1-0a58a9feac02
DTSTAMP:20240604T192156Z
SUMMARY:Grade 5 Moving-Up Ceremony
URL;VALUE=URI:https://www.albanyschools.org/schools/delaware/calendar/60760
 92/grade-5-moving-up-ceremony
DTSTART:20240625T140000Z
DTEND:20240625T150000Z
END:VEVENT
END:VCALENDAR
