BEGIN:VCALENDAR
VERSION:2.0
PRODID:SchoolNow
CALSCALE:GREGORIAN
BEGIN:VEVENT
UID:652a06ca-58a6-11ef-a94c-02894fafc275
DTSTAMP:20241119T195229Z
SUMMARY:Winter concert
URL;VALUE=URI:https://www.albanyschools.org/schools/delaware/calendar/63880
 77/winter-concert
DTSTART:20241216T223000Z
DTEND:20241216T233000Z
END:VEVENT
END:VCALENDAR
