BEGIN:VCALENDAR
VERSION:2.0
PRODID:SchoolNow
CALSCALE:GREGORIAN
BEGIN:VEVENT
UID:2246d778-614a-11ef-81c0-0ec9eb09a8e7
DTSTAMP:20240823T122050Z
SUMMARY:Kindergarten Orientation (last names A-J)
URL;VALUE=URI:https://www.albanyschools.org/schools/delaware/calendar/64477
 50/kindergarten-orientation-last-names-a-j
DTSTART:20240906T133000Z
DTEND:20240906T153000Z
END:VEVENT
END:VCALENDAR
