BEGIN:VCALENDAR
VERSION:2.0
PRODID:SchoolNow
CALSCALE:GREGORIAN
BEGIN:VEVENT
UID:3ef5855e-614a-11ef-a9d9-0afff3e82e93
DTSTAMP:20240823T122138Z
SUMMARY:Kindergarten Orientation (last names K-Z)
URL;VALUE=URI:https://www.albanyschools.org/schools/delaware/calendar/64477
 51/kindergarten-orientation-last-names-k-z
DTSTART:20240906T160000Z
DTEND:20240906T173000Z
END:VEVENT
END:VCALENDAR
