BEGIN:VCALENDAR
VERSION:2.0
PRODID:SchoolNow
CALSCALE:GREGORIAN
BEGIN:VEVENT
UID:fb288102-6557-11ef-b9df-0affe5d5c0af
DTSTAMP:20240828T161018Z
SUMMARY:Welcome Back Celebration and Open House
URL;VALUE=URI:https://www.albanyschools.org/schools/delaware/calendar/64740
 92/welcome-back-celebration-and-open-house
DTSTART:20240926T210000Z
DTEND:20240926T223000Z
END:VEVENT
END:VCALENDAR
