BEGIN:VCALENDAR
VERSION:2.0
PRODID:SchoolNow
CALSCALE:GREGORIAN
BEGIN:VEVENT
UID:31f1d04e-6558-11ef-80a6-0affe752b91d
DTSTAMP:20241004T142456Z
SUMMARY:PTA meeting (in-person and virtual)
LOCATION:Cafeteria
URL;VALUE=URI:https://www.albanyschools.org/schools/delaware/calendar/64740
 97/pta-meeting
DTSTART:20241008T210000Z
DTEND:20241008T220000Z
END:VEVENT
END:VCALENDAR
