BEGIN:VCALENDAR
VERSION:2.0
PRODID:SchoolNow
CALSCALE:GREGORIAN
BEGIN:VEVENT
UID:438ea85e-6558-11ef-bffb-0e93ce3a631d
DTSTAMP:20241004T142948Z
SUMMARY:Family STEM Night
URL;VALUE=URI:https://www.albanyschools.org/schools/delaware/calendar/64740
 98/family-stem-night
DTSTART:20241010T210000Z
DTEND:20241010T230000Z
END:VEVENT
END:VCALENDAR
