BEGIN:VCALENDAR
VERSION:2.0
PRODID:SchoolNow
CALSCALE:GREGORIAN
BEGIN:VEVENT
UID:e7faf6cc-6558-11ef-82c2-0afff10b48e9
DTSTAMP:20241004T142557Z
SUMMARY:PTA meeting (in-person and virtual)
LOCATION:Cafeteria
URL;VALUE=URI:https://www.albanyschools.org/schools/delaware/calendar/64741
 03/pta-meeting
DTSTART:20250211T220000Z
DTEND:20250211T230000Z
END:VEVENT
END:VCALENDAR
