BEGIN:VCALENDAR
VERSION:2.0
PRODID:SchoolNow
CALSCALE:GREGORIAN
BEGIN:VEVENT
UID:1037b238-6559-11ef-946c-0a58a9feac02
DTSTAMP:20241004T142730Z
SUMMARY:PTA meeting (in-person and virtual)
LOCATION:Cafeteria
URL;VALUE=URI:https://www.albanyschools.org/schools/delaware/calendar/64741
 05/pta-meeting
DTSTART:20250513T210000Z
DTEND:20250513T220000Z
END:VEVENT
END:VCALENDAR
