BEGIN:VCALENDAR
VERSION:2.0
PRODID:SchoolNow
CALSCALE:GREGORIAN
BEGIN:VEVENT
UID:25bc05fa-6559-11ef-9fa0-0affe5d5c0af
DTSTAMP:20241004T142825Z
SUMMARY:PTA meeting (in-person and virtual)
LOCATION:Cafeteria
URL;VALUE=URI:https://www.albanyschools.org/schools/delaware/calendar/64741
 06/pta-meeting
DTSTART:20250610T210000Z
DTEND:20250610T220000Z
END:VEVENT
END:VCALENDAR
