BEGIN:VCALENDAR
VERSION:2.0
PRODID:SchoolNow
CALSCALE:GREGORIAN
BEGIN:VEVENT
UID:6f12bd26-825e-11ef-b91a-0affe925204f
DTSTAMP:20241004T143932Z
SUMMARY:Parent-teacher conferences
URL;VALUE=URI:https://www.albanyschools.org/schools/delaware/calendar/67555
 36/parent-teacher-conferences
DTSTART:20241024T203000Z
DTEND:20241024T233000Z
END:VEVENT
END:VCALENDAR
