BEGIN:VCALENDAR
VERSION:2.0
PRODID:SchoolNow
CALSCALE:GREGORIAN
BEGIN:VEVENT
UID:5903f036-8d8f-11ef-967e-0a58a9feac02
DTSTAMP:20241018T202708Z
SUMMARY:School picture day
URL;VALUE=URI:https://www.albanyschools.org/schools/delaware/calendar/68526
 20/school-picture-day
DTSTART;VALUE=DATE:20241104
DTEND;VALUE=DATE:20241105
END:VEVENT
END:VCALENDAR
