BEGIN:VCALENDAR
VERSION:2.0
PRODID:SchoolNow
CALSCALE:GREGORIAN
BEGIN:VEVENT
UID:d18b25c0-001b-11f0-8bd0-0a58a9feac02
DTSTAMP:20250421T155154Z
SUMMARY:NYS English Language Arts exam\, grades 3-5 (updated)
URL;VALUE=URI:https://www.albanyschools.org/schools/delaware/calendar/76742
 51/nys-english-language-arts-exam-grades-3-5
DTSTART;VALUE=DATE:20250422
DTEND;VALUE=DATE:20250424
END:VEVENT
END:VCALENDAR
