BEGIN:VCALENDAR
VERSION:2.0
PRODID:SchoolNow
CALSCALE:GREGORIAN
BEGIN:VEVENT
UID:11cc6fea-001c-11f0-afaf-0affe26cedb9
DTSTAMP:20250313T150140Z
SUMMARY:NYS Math exam\, grades 3-5
URL;VALUE=URI:https://www.albanyschools.org/schools/delaware/calendar/76742
 52/nys-math-exam-grades-3-5
DTSTART;VALUE=DATE:20250506
DTEND;VALUE=DATE:20250508
END:VEVENT
END:VCALENDAR
