BEGIN:VCALENDAR
VERSION:2.0
PRODID:SchoolNow
CALSCALE:GREGORIAN
BEGIN:VEVENT
UID:1479b12c-4085-11f0-81be-0ebf031402d3
DTSTAMP:20250603T141436Z
SUMMARY:Prekindergarten Moving-Up Ceremony
URL;VALUE=URI:https://www.albanyschools.org/schools/delaware/calendar/82451
 84/prekindergarten-moving-up-ceremony
DTSTART:20250623T150000Z
DTEND:20250623T160000Z
END:VEVENT
END:VCALENDAR
