BEGIN:VCALENDAR
VERSION:2.0
PRODID:SchoolNow
CALSCALE:GREGORIAN
BEGIN:VEVENT
UID:2dc5508c-4085-11f0-ad3b-0affec5dcef5
DTSTAMP:20250603T141519Z
SUMMARY:Kindergarten Moving-Up Ceremony
URL;VALUE=URI:https://www.albanyschools.org/schools/delaware/calendar/82451
 85/kindergarten-moving-up-ceremony
DTSTART:20250626T140000Z
DTEND:20250626T150000Z
END:VEVENT
END:VCALENDAR
