BEGIN:VCALENDAR
VERSION:2.0
PRODID:SchoolNow
CALSCALE:GREGORIAN
BEGIN:VEVENT
UID:46de2bde-4085-11f0-b5d3-0a58a9feac02
DTSTAMP:20250603T141601Z
SUMMARY:Grade 5 Moving-Up Ceremony
URL;VALUE=URI:https://www.albanyschools.org/schools/delaware/calendar/82451
 86/grade-5-moving-up-ceremony
DTSTART:20250624T140000Z
DTEND:20250624T150000Z
END:VEVENT
END:VCALENDAR
