BEGIN:VCALENDAR
VERSION:2.0
PRODID:SchoolNow
CALSCALE:GREGORIAN
BEGIN:VEVENT
UID:a08f05e2-6c9d-11f0-925f-0a58a9feac02
DTSTAMP:20250729T170110Z
SUMMARY:Welcome Back Celebration and Open House
URL;VALUE=URI:https://www.albanyschools.org/schools/delaware/calendar/84557
 17/welcome-back-celebration-and-open-house
DTSTART:20250918T210000Z
DTEND:20250918T223000Z
END:VEVENT
END:VCALENDAR
