BEGIN:VCALENDAR
VERSION:2.0
PRODID:SchoolNow
CALSCALE:GREGORIAN
BEGIN:VEVENT
UID:be21135c-6c9d-11f0-86af-0a58a9feac02
DTSTAMP:20250729T170200Z
SUMMARY:Special Persons Breakfast
URL;VALUE=URI:https://www.albanyschools.org/schools/delaware/calendar/84557
 18/special-persons-breakfast
DTSTART:20250925T123000Z
DTEND:20250925T133000Z
END:VEVENT
END:VCALENDAR
