BEGIN:VCALENDAR
VERSION:2.0
PRODID:SchoolNow
CALSCALE:GREGORIAN
BEGIN:VEVENT
UID:5bbb2c9c-7793-11f0-8641-0a58a9feac02
DTSTAMP:20250812T154523Z
SUMMARY:Prekindergarten orientation (by invite 9:30-11 a.m. or 1-2:30 p.m.)
URL;VALUE=URI:https://www.albanyschools.org/schools/delaware/calendar/84944
 81/prekindergarten-orientation-by-invite-9-30-11-a-m-or-1-2-30-p-m
DTSTART:20250905T154400Z
DTEND:20250905T164400Z
END:VEVENT
END:VCALENDAR
