BEGIN:VCALENDAR
VERSION:2.0
PRODID:SchoolNow
CALSCALE:GREGORIAN
BEGIN:VEVENT
UID:7dbd8394-7793-11f0-ad59-026868b05a49
DTSTAMP:20250812T154632Z
SUMMARY:First day of school for kindergarten-grade 5
URL;VALUE=URI:https://www.albanyschools.org/schools/delaware/calendar/84944
 82/first-day-of-school-kindergarten-grade-5
DTSTART:20250904T130000Z
DTEND:20250904T193000Z
END:VEVENT
END:VCALENDAR
