BEGIN:VCALENDAR
VERSION:2.0
PRODID:SchoolNow
CALSCALE:GREGORIAN
BEGIN:VEVENT
UID:9dc1d0fa-7793-11f0-bb1e-0e9aad81983d
DTSTAMP:20250812T154735Z
SUMMARY:All students - PK to grade 5 - report to school
URL;VALUE=URI:https://www.albanyschools.org/schools/delaware/calendar/84944
 83/all-students-pk-to-grade-5-report-to-school
DTSTART:20250908T120000Z
DTEND:20250908T193000Z
END:VEVENT
END:VCALENDAR
