BEGIN:VCALENDAR
VERSION:2.0
PRODID:SchoolNow
CALSCALE:GREGORIAN
BEGIN:VEVENT
UID:19b660a4-7ea1-11f0-8ff5-0afff983aa55
DTSTAMP:20250821T151123Z
SUMMARY:Family STEM Night
URL;VALUE=URI:https://www.albanyschools.org/schools/delaware/calendar/85283
 40/family-stem-night
DTSTART:20251009T210000Z
DTEND:20251009T230000Z
END:VEVENT
END:VCALENDAR
