BEGIN:VCALENDAR
VERSION:2.0
PRODID:SchoolNow
CALSCALE:GREGORIAN
BEGIN:VEVENT
UID:0be506e6-8da2-11f0-9bad-0eac18ed6063
DTSTAMP:20250909T180137Z
SUMMARY:Winter Concert
URL;VALUE=URI:https://www.albanyschools.org/schools/delaware/calendar/86016
 97/winter-concert
DTSTART:20251209T223000Z
DTEND:20251209T233000Z
END:VEVENT
END:VCALENDAR
