BEGIN:VCALENDAR
VERSION:2.0
PRODID:SchoolNow
CALSCALE:GREGORIAN
BEGIN:VEVENT
UID:bf3c7a6a-a906-11f0-8a6b-0a58a9feac02
DTSTAMP:20251014T140449Z
SUMMARY:Parent-teacher conferences
URL;VALUE=URI:https://www.albanyschools.org/schools/delaware/calendar/87214
 52/parent-teacher-conferences
DTSTART:20251023T194500Z
DTEND:20251023T224500Z
END:VEVENT
END:VCALENDAR
