BEGIN:VCALENDAR
VERSION:2.0
PRODID:SchoolNow
CALSCALE:GREGORIAN
BEGIN:VEVENT
UID:70fd8034-e5a0-11f0-96aa-0a58a9feac02
DTSTAMP:20251230T165610Z
SUMMARY:Parent Pause
URL;VALUE=URI:https://www.albanyschools.org/schools/delaware/calendar/88277
 32/parent-pause
DTSTART:20260113T141500Z
DTEND:20260113T151500Z
END:VEVENT
END:VCALENDAR
