BEGIN:VCALENDAR
VERSION:2.0
PRODID:SchoolNow
CALSCALE:GREGORIAN
BEGIN:VEVENT
UID:95194d68-e5a0-11f0-8ee6-0a58a9feac02
DTSTAMP:20251230T165710Z
SUMMARY:Mosaic Parent Alliance
URL;VALUE=URI:https://www.albanyschools.org/schools/delaware/calendar/88277
 33/mosaic-parent-alliance
DTSTART:20260210T141500Z
DTEND:20260210T153000Z
END:VEVENT
END:VCALENDAR
