BEGIN:VCALENDAR
VERSION:2.0
PRODID:SchoolNow
CALSCALE:GREGORIAN
BEGIN:VEVENT
UID:b612c2d8-e5a0-11f0-8e7f-0a58a9feac02
DTSTAMP:20251230T165806Z
SUMMARY:Family STEM Night
URL;VALUE=URI:https://www.albanyschools.org/schools/delaware/calendar/88277
 34/family-stem-night
DTSTART:20260212T220000Z
DTEND:20260213T000000Z
END:VEVENT
END:VCALENDAR
