BEGIN:VCALENDAR
VERSION:2.0
PRODID:SchoolNow
CALSCALE:GREGORIAN
BEGIN:VEVENT
UID:f4fcb832-e5a0-11f0-8f6e-0a58a9feac02
DTSTAMP:20251230T165951Z
SUMMARY:Parent-teacher conferences
URL;VALUE=URI:https://www.albanyschools.org/schools/delaware/calendar/88277
 35/parent-teacher-conferences
DTSTART:20260205T204500Z
DTEND:20260205T234500Z
END:VEVENT
END:VCALENDAR
