BEGIN:VCALENDAR
VERSION:2.0
PRODID:SchoolNow
CALSCALE:GREGORIAN
BEGIN:VEVENT
UID:91e84ef4-e5a1-11f0-8bca-0a58a9feac02
DTSTAMP:20251230T170414Z
SUMMARY:Spring dance
URL;VALUE=URI:https://www.albanyschools.org/schools/delaware/calendar/88277
 36/spring-dance
DTSTART:20260319T210000Z
DTEND:20260319T220000Z
END:VEVENT
END:VCALENDAR
