BEGIN:VCALENDAR
VERSION:2.0
PRODID:SchoolNow
CALSCALE:GREGORIAN
BEGIN:VEVENT
UID:e914d96a-2ea6-11f1-bff3-0a58a9feac02
DTSTAMP:20260402T151623Z
SUMMARY:Spring Concert
URL;VALUE=URI:https://www.albanyschools.org/schools/delaware/calendar/89661
 14/spring-concert
DTSTART:20260603T180000Z
DTEND:20260603T190000Z
END:VEVENT
END:VCALENDAR
