BEGIN:VCALENDAR
VERSION:2.0
PRODID:SchoolNow
CALSCALE:GREGORIAN
BEGIN:VEVENT
UID:fa02a86a-2ea6-11f1-b4aa-0a58a9feac02
DTSTAMP:20260402T151651Z
SUMMARY:Spring Concert
URL;VALUE=URI:https://www.albanyschools.org/schools/delaware/calendar/89661
 16/spring-concert
DTSTART:20260602T213000Z
DTEND:20260602T223000Z
END:VEVENT
END:VCALENDAR
