BEGIN:VCALENDAR
VERSION:2.0
PRODID:SchoolNow
CALSCALE:GREGORIAN
BEGIN:VEVENT
UID:9264aec6-0997-11ec-a9bf-0ad344d23739
DTSTAMP:20210831T135046Z
SUMMARY:Grades 1-2 orientation
URL;VALUE=URI:https://www.albanyschools.org/schools/dual-language/calendar/
 2694266/grades-1-2-orientation
DTSTART:20210902T130000Z
DTEND:20210902T193000Z
END:VEVENT
END:VCALENDAR
