BEGIN:VCALENDAR
VERSION:2.0
PRODID:SchoolNow
CALSCALE:GREGORIAN
BEGIN:VEVENT
UID:0dd6f2bc-0998-11ec-b252-0ea3185b490f
DTSTAMP:20210831T135129Z
SUMMARY:Grades 3-5 orientation
URL;VALUE=URI:https://www.albanyschools.org/schools/dual-language/calendar/
 2694268/grades-3-5-orientation
DTSTART:20210903T130000Z
DTEND:20210903T193000Z
END:VEVENT
END:VCALENDAR
