BEGIN:VCALENDAR
VERSION:2.0
PRODID:SchoolNow
CALSCALE:GREGORIAN
BEGIN:VEVENT
UID:7d562d1a-1c71-11ec-8a25-0ef648548e51
DTSTAMP:20210923T132547Z
SUMMARY:Virtual Open House (pre-K to grade 5)
URL;VALUE=URI:https://www.albanyschools.org/schools/dual-language/calendar/
 2758496/open-house-pre-k-to-grade-5
DTSTART:20211006T220000Z
DTEND:20211007T000000Z
END:VEVENT
END:VCALENDAR
