BEGIN:VCALENDAR
VERSION:2.0
PRODID:SchoolNow
CALSCALE:GREGORIAN
BEGIN:VEVENT
UID:82f83840-8e85-11ec-8165-020f269ee9e9
DTSTAMP:20220223T164910Z
SUMMARY:NYS English Language Arts (ELA) exam
URL;VALUE=URI:https://www.albanyschools.org/schools/dual-language/calendar/
 3104458/ela
DTSTART:20220329T040000Z
DTEND:20220331T035900Z
END:VEVENT
END:VCALENDAR
