BEGIN:VCALENDAR
VERSION:2.0
PRODID:SchoolNow
CALSCALE:GREGORIAN
BEGIN:VEVENT
UID:a92e7256-95a4-11ec-a11f-0e2ed6ca55a7
DTSTAMP:20220224T193126Z
SUMMARY:Anxiety and Depression in Kids: What to Look For and What to Do (vi
 rtual)
URL;VALUE=URI:https://www.albanyschools.org/schools/dual-language/calendar/
 3115397/anxiety-and-depression-in-kids-what-to-look-for-and-what-to-do-vir
 tual
DTSTART:20220309T230000Z
DTEND:20220310T003000Z
END:VEVENT
END:VCALENDAR
