BEGIN:VCALENDAR
VERSION:2.0
PRODID:SchoolNow
CALSCALE:GREGORIAN
BEGIN:VEVENT
UID:e1b1e73a-d2c5-11ec-8e8c-0a9be289f199
DTSTAMP:20220602T182724Z
SUMMARY:Spring Concert
URL;VALUE=URI:https://www.albanyschools.org/schools/dual-language/calendar/
 3198928/spring-concert
DTSTART:20220613T223000Z
DTEND:20220613T233000Z
END:VEVENT
END:VCALENDAR
