BEGIN:VCALENDAR
VERSION:2.0
PRODID:SchoolNow
CALSCALE:GREGORIAN
BEGIN:VEVENT
UID:dc7a6140-e27c-11ec-b498-0e786fa374e3
DTSTAMP:20220602T183319Z
SUMMARY:Kindergarten Moving Up
URL;VALUE=URI:https://www.albanyschools.org/schools/dual-language/calendar/
 3210406/kindergarten-moving-up-ceremony
DTSTART:20220621T140000Z
DTEND:20220621T150000Z
END:VEVENT
END:VCALENDAR
