BEGIN:VCALENDAR
VERSION:2.0
PRODID:SchoolNow
CALSCALE:GREGORIAN
BEGIN:VEVENT
UID:e99a9564-e27e-11ec-94d3-0e786fa374e3
DTSTAMP:20220602T183016Z
SUMMARY:Prekindergarten Moving Up
URL;VALUE=URI:https://www.albanyschools.org/schools/dual-language/calendar/
 3210420/prekindergarten-moving-up
DTSTART:20220617T140000Z
DTEND:20220617T150000Z
END:VEVENT
END:VCALENDAR
