BEGIN:VCALENDAR
VERSION:2.0
PRODID:SchoolNow
CALSCALE:GREGORIAN
BEGIN:VEVENT
UID:33553a92-e2a2-11ec-926e-0e8aa5f04211
DTSTAMP:20220602T183210Z
SUMMARY:Grade 5 Moving Up
LOCATION:Gym
URL;VALUE=URI:https://www.albanyschools.org/schools/dual-language/calendar/
 3210769/grade-5-moving-up
DTSTART:20220622T170000Z
DTEND:20220622T180000Z
END:VEVENT
END:VCALENDAR
