BEGIN:VCALENDAR
VERSION:2.0
PRODID:SchoolNow
CALSCALE:GREGORIAN
BEGIN:VEVENT
UID:fda565da-1801-11ed-abf0-0afd661a86c1
DTSTAMP:20220809T171928Z
SUMMARY:First days of school: Dual Language
DESCRIPTION:View event details for a look at which grades attend which day 
 on Thursday 9/1 and Friday 9/2.
URL;VALUE=URI:https://www.albanyschools.org/schools/dual-language/calendar/
 3275049/first-days-of-school-dual-language
DTSTART;VALUE=DATE:20220901
DTEND;VALUE=DATE:20220903
END:VEVENT
END:VCALENDAR
